BEGIN:VCALENDAR
PRODID:-//Eskilstuna Kommunföretag//SV
VERSION:2.0
METHOD:PUBLISH
BEGIN:VEVENT
CLASS:PUBLIC
CREATED:20260421T125543Z
DESCRIPTION:Sammanfattning: Handla för Eskilstuna i samarbete med flera andra aktörer anordnar ett större evenemang för att främja cykeln som färdmedel och öka mobilitet i staden.

\n\nMer information: https://www.retuna.se/event/cykeldagen
DTEND:20260509T160000Z
DTSTAMP:20260421T125543Z
DTSTART:20260509T100000Z
LAST-MODIFIED:20260421T125543Z
LOCATION:ReBuyke
SEQUENCE:0
SUMMARY:Cykeldagen
STATUS:CONFIRMED
TRANSP:TRANSPARENT
UID:616db184-e648-4006-8a59-943ce8f64193
END:VEVENT
END:VCALENDAR
